BEGIN:VCALENDAR
VERSION:2.0
PRODID:-//wp-events-plugin.com//6.5.2//EN
TZID:Europe/Paris
X-WR-TIMEZONE:Europe/Paris
BEGIN:VEVENT
UID:168@maison-rurale.fr
DTSTART;TZID=Europe/Paris:20250803T140000
DTEND;TZID=Europe/Paris:20250803T180000
DTSTAMP:20250713T112211Z
URL:https://www.maison-rurale.fr/events/oh-les-hommes/
SUMMARY:Oh ... les hommes !
DESCRIPTION:Présentés par Jean-Luc NETH\, les vêtements masculins n'auro
 nt plus de secret pour vous. Rejoignez-le toute l'après-midi dans la Scho
 enstub. Redingotes\, et autres accessoires de coquetterie\, observez les d
 étails qui faisaient partie de la garde-robe masculine !
ATTACH;FMTTYPE=image/jpeg:https://www.maison-rurale.fr/wp-content/uploads/
 2025/03/IMG_8114-scaled.jpg
LOCATION:Maison Rurale de l'Outre-Forêt\, 1 place de l'église\, KUTZENHAU
 SEN\, 67250\, France
X-APPLE-STRUCTURED-LOCATION;VALUE=URI;X-ADDRESS=1 place de l'église\, KUTZ
 ENHAUSEN\, 67250\, France;X-APPLE-RADIUS=100;X-TITLE=Maison Rurale de l'Ou
 tre-Forêt:geo:0,0
END:VEVENT
BEGIN:VTIMEZONE
TZID:Europe/Paris
X-LIC-LOCATION:Europe/Paris
BEGIN:DAYLIGHT
DTSTART:20250330T030000
TZOFFSETFROM:+0100
TZOFFSETTO:+0200
TZNAME:CEST
END:DAYLIGHT
END:VTIMEZONE
END:VCALENDAR