BEGIN:VCALENDAR
VERSION:2.0
PRODID:-//wp-events-plugin.com//6.5.2//EN
TZID:Europe/Paris
X-WR-TIMEZONE:Europe/Paris
BEGIN:VEVENT
UID:191@maison-rurale.fr
DTSTART;TZID=Europe/Paris:20250827T093000
DTEND;TZID=Europe/Paris:20250827T180000
DTSTAMP:20250611T102549Z
URL:https://www.maison-rurale.fr/events/mercredi-a-la-campagne-6/
SUMMARY:Mercredi à la campagne
DESCRIPTION:Tous les mercredis\, du 16 juillet au 27 août\, prenez part à
  une journée exceptionnelle avec les “Mercredis à la campagne” dans 
 une ambiance authentique et conviviale ! Ces rendez-vous incontournables d
 e la période estivale vous offrent la possibilité de découvrir ou redé
 couvrir les paysages pittoresques de l’Outre-Forêt\, la vie rurale et l
 es arts et traditions populaires de la région.\n\nAu programme :\n\n 	 
 A 9h30 :\n\n 	promenade guidée à pied autour de Kutzenhausen avec prése
 ntation rapide du village\, sur inscription.\n 	Balade en calèche avec gu
 ide\, sur inscription car places limitées. 10€/personne.\n\n\n 	A midi\
 , le plat-phare de la Maison Rurale : Dampfnuddle\, potage aux légumes\, 
 compotes de pommes et fruits\, café/tisane. Sur réservation\, 10€/pers
 onne.\n 	A 14h\, visite guidée de la Maison Rurale et découverte de l’
 exposition « Sur son 31\, l’Elsass Rock s’invite en Outre-Forêt. De 
 la tradition à la modernité avec Geht’s In ! »\n 	A 16h : Cuisson du 
 pain par D. Hoeltzel\n\n*****\n\nPossibilité de ne participer qu’au pro
 gramme de l’après-midi.\n\nInscription obligatoire pour la randonnée\,
  la balade en calèche et le repas de midi au plus tard le lundi précéda
 nt l’animation : contact@maison-rurale.fr ou 03 88 80 53 00\n\n&nbsp\;\n
 \n\n\n&nbsp\;\n\nTarifs (entrée + exposition + tablettes) :\nPlein tarif 
 : 6€\nTarif réduit : 4€\nAbonnement annuel ou Pass famille : 14€\nR
 epas : 10€\nBalade en calèche : 10€\nGroupes (+12 pers) : se renseig
 ner\n\n
ATTACH;FMTTYPE=image/jpeg:https://www.maison-rurale.fr/wp-content/uploads/
 2025/01/443719011_910962634374726_3596236640972790266_n-e1739879445384.jpg
CATEGORIES:Animation,Balade,Repas
LOCATION:Maison Rurale de l'Outre-Forêt\, 1 place de l'église\, KUTZENHAU
 SEN\, 67250\, France
X-APPLE-STRUCTURED-LOCATION;VALUE=URI;X-ADDRESS=1 place de l'église\, KUTZ
 ENHAUSEN\, 67250\, France;X-APPLE-RADIUS=100;X-TITLE=Maison Rurale de l'Ou
 tre-Forêt:geo:0,0
END:VEVENT
BEGIN:VTIMEZONE
TZID:Europe/Paris
X-LIC-LOCATION:Europe/Paris
BEGIN:DAYLIGHT
DTSTART:20250330T030000
TZOFFSETFROM:+0100
TZOFFSETTO:+0200
TZNAME:CEST
END:DAYLIGHT
END:VTIMEZONE
END:VCALENDAR