BEGIN:VCALENDAR
VERSION:2.0
PRODID:-//wp-events-plugin.com//6.5.2//EN
TZID:Europe/Paris
X-WR-TIMEZONE:Europe/Paris
BEGIN:VEVENT
UID:51@maison-rurale.fr
DTSTART;TZID=Europe/Paris:20240518T200000
DTEND;TZID=Europe/Paris:20240518T230000
DTSTAMP:20240510T065426Z
URL:https://www.maison-rurale.fr/events/la-nuit-des-musees-spectacle-portr
 aits-dun-soir/
SUMMARY:La Nuit des musées : Spectacle “Portraits d’un soir”
DESCRIPTION:\n\n\n\n\n\n\n\n\n\n\n\n\n\n\n\n\n\n\n\n\n[divider height="30" 
 style="default" line="default" color="" themecolor="0"]\nPOUR LA VINGTIÈM
 E ÉDITION DE “LA NUIT EUROPÉENNES DES MUSÉES”\, VENEZ (RE)DÉCOUVRI
 R LA MAISON RURALE LORS D’UNE VISITE NOCTURNE !\nLors de la Nuit des Mus
 ées le samedi 18 mai\, de 20h à 23h\, découvrez le spectacle inédit 
 “Portraits d’un Soir”\, création de l’AMROF\, qui se déroulera d
 epuis les fenêtres de la Maison Rurale de l’Outre-Forêt. Plongez au c
 œur de l’histoire d’une famille\, dévoilée à travers les tableaux 
 vivants qui se dessineront devant vous.\n\nLaissez-vous emporter par le r
 écit passionnant de cette famille\, incarnée par différents membres qui
  se relaieront aux fenêtres de la maison d’habitation\, chaque fenêtre
  étant une fenêtre sur leurs vies\, encadrant ainsi un portrait d’un s
 oir inoubliable.\nIllustration musicale assurée par Georges HAIBACH et se
 s instruments anciens parfois surprenants.\n\nEn plus du spectacle princip
 al\, profitez de 18h à 20h de visites guidées de notre exposition tempor
 aire et des bâtiments agricoles avoisinants. Une occasion unique de déco
 uvrir l’histoire et le patrimoine de notre région sous un nouvel éclai
 rage !\n\nPetite restauration sur place : Salade de pomme de terre\, knack
 \, cornichon et pain. Bretzel\, gâteaux\, glaces... Buvette.\n\nExpositio
 n “Portraits de familles” visible du 28 avril au 26 juin 2024\n\n[divi
 der height="30" style="default" line="default" color="" themecolor="0"]\n\
 n Horaires des Lectures Théâtralisées : 20h\, 21h\, 22h\n Durée : 
 30 à 40 minutes\n Petite Restauration disponible\n Accès Exceptionnel
  par l’arrière de la Maison Rurale\nEntrée gratuite - Réservation pr
 éalable obligatoire\n\nInfos + et réservations : 03 88 80 53 00 ou conta
 ct@maison-rurale.fr\n\n\n\n\n\n\n\n\n\n\n\n\n\n\n\n\n\n\n\n\n\n
ATTACH;FMTTYPE=image/jpeg:https://www.maison-rurale.fr/wp-content/uploads/
 2024/04/Visuel-site-Internet.jpg
CATEGORIES:Spectacle
LOCATION:Maison Rurale de l'Outre-Forêt\, 1 place de l'église\, KUTZENHAU
 SEN\, 67250\, France
X-APPLE-STRUCTURED-LOCATION;VALUE=URI;X-ADDRESS=1 place de l'église\, KUTZ
 ENHAUSEN\, 67250\, France;X-APPLE-RADIUS=100;X-TITLE=Maison Rurale de l'Ou
 tre-Forêt:geo:0,0
END:VEVENT
BEGIN:VTIMEZONE
TZID:Europe/Paris
X-LIC-LOCATION:Europe/Paris
BEGIN:DAYLIGHT
DTSTART:20240331T030000
TZOFFSETFROM:+0100
TZOFFSETTO:+0200
TZNAME:CEST
END:DAYLIGHT
END:VTIMEZONE
END:VCALENDAR