BEGIN:VCALENDAR
VERSION:2.0
PRODID:-//wp-events-plugin.com//6.5.2//EN
TZID:Europe/Paris
X-WR-TIMEZONE:Europe/Paris
BEGIN:VEVENT
UID:78@maison-rurale.fr
DTSTART;TZID=Europe/Paris:20240921T110000
DTEND;TZID=Europe/Paris:20240922T180000
DTSTAMP:20240911T095454Z
URL:https://www.maison-rurale.fr/events/journees-europeennes-du-patrimoine
 -les-arts-du-feu/
SUMMARY:Journées européennes du Patrimoine : les arts du feu
DESCRIPTION:Pour les Journées Européennes du Patrimoine\, la Maison Rural
 e de l’Outre-Forêt\, en partenariat avec Les Arts du Feu\, vous invite 
 à célébrer l'artisanat le week-end des 21 et 22 septembre. Découvrez d
 es démonstrations\, des ateliers interactifs\, des expositions\, et bien 
 plus encore !\nDates et Horaires :\nSamedi 21 septembre : 11h - 22h\nDiman
 che 22 septembre : 11h - 18h\nProgramme du Samedi 21 septembre :\nDès 19h
 \, petite restauration. Service également de tartes flambées ! La soiré
 e se poursuivra avec un concert de trompettes par Charles Rutsch et Léon 
 Koepf.\n\nProgramme du Dimanche 22 septembre :\nÀ 12h\, profitez d'une pe
 tite restauration. À 15h\, une visite guidée de la Maison Rurale sera pr
 oposée.\n\nAteliers et Démonstrations :\nParticipez à l’émaillage et
  la cuisson raku de votre bol\, initiez-vous à la forge ou apprenez à al
 lumer un feu par friction avec Jean-Michel Zottner. Assistez également à
  des démonstrations de cuissons de céramiques raku\, de forge à la brai
 se\, de soufflage de verre à la flamme\, et de marqueterie.\n\nExposition
 s et Activités :\nDécouvrez une exposition de marqueterie et participez 
 à une tombola pour tenter de gagner des créations uniques réalisées pa
 r les artisans présents.\n\nArtisans Présents :\nRencontrez les céramis
 tes Didier Garruchet\, Isabelle Keller\, Viviane Laufer\, Delphine Picamel
 ot et Philippe Sutter\, les forgerons Gabriel Goerger et Thierry Stumpf\, 
 et la souffleur de verre Julie Gonce\, ainsi que le Club de marqueterie de
  l’AMROF.\nEntrée gratuite.\nPour plus d'informations :\nTéléphone : 
 03 88 80 53 00 Email : contact@maison-rurale.fr
ATTACH;FMTTYPE=image/jpeg:https://www.maison-rurale.fr/wp-content/uploads/
 2024/04/Les-Journees-Europeennes-du-Patrimoine-Les-Arts-du-Feu-1.png
CATEGORIES:Animation,Démonstration
LOCATION:Maison Rurale de l'Outre-Forêt\, 1 place de l'église\, KUTZENHAU
 SEN\, 67250\, France
X-APPLE-STRUCTURED-LOCATION;VALUE=URI;X-ADDRESS=1 place de l'église\, KUTZ
 ENHAUSEN\, 67250\, France;X-APPLE-RADIUS=100;X-TITLE=Maison Rurale de l'Ou
 tre-Forêt:geo:0,0
END:VEVENT
BEGIN:VTIMEZONE
TZID:Europe/Paris
X-LIC-LOCATION:Europe/Paris
BEGIN:DAYLIGHT
DTSTART:20240331T030000
TZOFFSETFROM:+0100
TZOFFSETTO:+0200
TZNAME:CEST
END:DAYLIGHT
END:VTIMEZONE
END:VCALENDAR