BEGIN:VCALENDAR
VERSION:2.0
PRODID:-//wp-events-plugin.com//6.5.2//EN
TZID:Europe/Paris
X-WR-TIMEZONE:Europe/Paris
BEGIN:VEVENT
UID:193@maison-rurale.fr
DTSTART;TZID=Europe/Paris:20250920T110000
DTEND;TZID=Europe/Paris:20250920T220000
DTSTAMP:20250909T170238Z
URL:https://www.maison-rurale.fr/events/journees-du-patrimoine-les-arts-de
 -la-table/
SUMMARY:Journées du Patrimoine : "Les arts de la table"
DESCRIPTION:A l'occasion des Journées européennes du Patrimoine\, les Art
 s de la Table sont à l'honneur à la Maison Rurale de l'Outre-Forêt !\nA
 u programme :\n\nExposition : \n\nAdmirez les pièces emblématiques du s
 ervice de table "Obernai" par les Amis de Henri LOUX. Vous pourrez observe
 r les "soup'hier\, sauc'hier et sal'hier" des collections de l'AMROF\, ain
 si qu'un set de 8 "assiettes parlantes" sur la Plaisante histoire de tabac
 "\, avec leur documentation. Côté textile\, de belles nappes chiffrées 
 et marquées seront présentées\, ainsi que des pots à lait de Soufflenh
 eim. L'exposition se tiendra dans différents espaces de la Maison Rurale\
 , à découvrir lors de ce week-end dédié.\n\n[caption id="attachment_93
 85" align="alignnone" width="300"] Un service Henri LouxCrédit photo : Mi
 nd in Motion[/caption]\n\n\nConférence : \n\nRichard BRISACH tiendra une
  causerie sur "l'histoire de la gastronomie française" à 16h. Sa passion
 \, c'est cuisiner\, inventer des plats\, ou détourner les standards de la
  tradition culinaire. Profitez de son exposé pendant lequel vous pourrez 
 en apprendre davantage sur l'univers de la gastronomie !\n\nAnimations :\n
 \nPour le plaisir des papilles\, des ateliers et des dégustations seront 
 animés pour tous les âges. Démonstration de broderie de monogrammes et 
 de points de croix. Marguerite\, la "vache-mascotte" de l'étable\, sera m
 ise à contribution pour la traite. Grâce à son lait\, les petits et les
  grands pourront s'essayer au barattage du beurre\, ainsi qu'à la fabrica
 tion d'une brioche ou d'un petit pain... Une multitude d'ateliers et d'ani
 mations qui enrichiront une journée bien remplie\, autour de notre si bea
 u patrimoine !\n\n\n\n\nMarché du terroir et petite brocante :\n\nDans la
  cour\, retrouvez une variété d'apéritifs alsaciens\, les confitures de
  Kati\, les miels « Walter »\, le moulin à huile de Pfaffenbronn\, les 
 condiments ALELOR\, les fumés de sanglier\, les produits gourmands de la 
 Ferme des Bufflonne\, les pâtes et œufs de Barbara\, les thés et tisane
 s de Lisa et la boutique des Amis de la Maison Rurale de l'Outre-Forêt !\
 n\nDans la grange\, la petite brocante de vaisselle ravira les amateurs d'
 objets anciens qui pérennisent le souvenir !\n\nRestauration : \n\nA mid
 i : Salade de pommes de terre et knacks\, dessert\, café/tisane (8€)\n\
 nAprès-midi : Dampfnüdle et compote de pommes (4€)\n\nA partir de 19h 
 : Tartes flambées\n\n-------------------------------------------\n\nProfi
 tez enfin\, de l'ouverture de l'exposition des marqueteurs\, au courant de
  la soirée !\n\n&nbsp\;\nEntrée gratuite\nDates et Horaires :\nSamedi 20
  septembre : 11h – 22h\nDimanche 21 septembre : 11h – 18h\nPour plus d
 ’informations :\nTéléphone : 03 88 80 53 00 Email : contact@maison-rur
 ale.fr
ATTACH;FMTTYPE=image/jpeg:https://www.maison-rurale.fr/wp-content/uploads/
 2025/02/JourneesEuropeennesPatrimoine_Visuel2025.png
CATEGORIES:Animation,Conférence,Exposition
LOCATION:Maison Rurale de l'Outre-Forêt\, 1 place de l'église\, KUTZENHAU
 SEN\, 67250\, France
X-APPLE-STRUCTURED-LOCATION;VALUE=URI;X-ADDRESS=1 place de l'église\, KUTZ
 ENHAUSEN\, 67250\, France;X-APPLE-RADIUS=100;X-TITLE=Maison Rurale de l'Ou
 tre-Forêt:geo:0,0
END:VEVENT
BEGIN:VTIMEZONE
TZID:Europe/Paris
X-LIC-LOCATION:Europe/Paris
BEGIN:DAYLIGHT
DTSTART:20250330T030000
TZOFFSETFROM:+0100
TZOFFSETTO:+0200
TZNAME:CEST
END:DAYLIGHT
END:VTIMEZONE
END:VCALENDAR