BEGIN:VCALENDAR
VERSION:2.0
PRODID:-//wp-events-plugin.com//6.5.2//EN
TZID:Europe/Paris
X-WR-TIMEZONE:Europe/Paris
BEGIN:VEVENT
UID:194@maison-rurale.fr
DTSTART;TZID=Europe/Paris:20250921T110000
DTEND;TZID=Europe/Paris:20250921T180000
DTSTAMP:20250909T170409Z
URL:https://www.maison-rurale.fr/events/journees-du-patrimoine-les-arts-de
 -la-table-2/
SUMMARY:Journées du Patrimoine : "Les arts de la table"
DESCRIPTION:A l'occasion des Journées européennes du Patrimoine\, les Art
 s de la Table sont à l'honneur à la Maison Rurale de l'Outre-Forêt !\nA
 dmirez les pièces emblématiques du service de table "Obernai" par les Am
 is de Henri LOUX. Vous pourrez observer les "soup'hier\, sauc'hier et sal'
 hier" des collections de l'AMROF\, ainsi qu'un set de 8 "assiettes parlant
 es" sur la Plaisante histoire de tabac"\, avec leur documentation. Côté 
 textile\, de belles nappes chiffrées et marquées seront présentées\, a
 insi que des pots à lait de Soufflenheim. L'exposition se tiendra dans di
 fférents espaces de la Maison Rurale\, à découvrir lors de ce week-end 
 dédié.\n\nAu programme :\n\nMarché du terroir et petite brocante :\n\nD
 ans la cour\, retrouvez une variété d’apéritifs alsaciens\, les confi
 tures de Kati\, les miels « Walter »\, le moulin à huile de Pfaffenbron
 n\, les condiments ALELOR\, la Cour d'Escargots\, la ferme Gravius\, les t
 hés et tisanes de Lisa et la boutique des Amis de la Maison Rurale de l
 ’Outre-Forêt. Découvrez également le savoir-faire de “la Fabrique d
 ’Anaïs”\, céramiste originaire de Haguenau.\n\nDans la grange\, la p
 etite brocante de vaisselle ravira les amateurs d’objets anciens qui pé
 rennisent le souvenir !\n\nAteliers et dégustations pour tous les âges :
  démonstrations de broderie de monogrammes\, de points de croix \; traite
  de la vache Marguerite à l’étable \; barattage de beurre \; fabricati
 on d’une brioche ou d’un petit pain...\n\nRestauration le midi : Frica
 ssée\, pâtes à l'alsacienne et dessert\, café/tisane (12€)\n\nAnimat
 ion musicale : à 15h\, Emilie THOBY (lauréate 2024 du concours de chanso
 n en alsacien D'Stimme) et Serge RIEGER chanteront leur répertoire\n\nCon
 férence à 16h : "L'Alsace dans nos assiettes\, avec Henri LOUX"\, animé
 e par le Docteur BEFORT\n\n-------------------------------------------\n\n
 Profitez enfin\, de l'ouverture de l'exposition des marqueteurs\, qui s'an
 nonce des plus riches !\n\n&nbsp\;\nEntrée gratuite\nDates et Horaires :\
 nSamedi 20 septembre : 11h – 22h\nDimanche 21 septembre : 11h – 18h\nP
 our plus d’informations :\nTéléphone : 03 88 80 53 00 Email : contact@
 maison-rurale.fr
ATTACH;FMTTYPE=image/jpeg:https://www.maison-rurale.fr/wp-content/uploads/
 2025/02/JourneesEuropeennesPatrimoine_Visuel2025.png
CATEGORIES:Animation,Atelier/stage,Conférence,Exposition
LOCATION:Maison Rurale de l'Outre-Forêt\, 1 place de l'église\, KUTZENHAU
 SEN\, 67250\, France
X-APPLE-STRUCTURED-LOCATION;VALUE=URI;X-ADDRESS=1 place de l'église\, KUTZ
 ENHAUSEN\, 67250\, France;X-APPLE-RADIUS=100;X-TITLE=Maison Rurale de l'Ou
 tre-Forêt:geo:0,0
END:VEVENT
BEGIN:VTIMEZONE
TZID:Europe/Paris
X-LIC-LOCATION:Europe/Paris
BEGIN:DAYLIGHT
DTSTART:20250330T030000
TZOFFSETFROM:+0100
TZOFFSETTO:+0200
TZNAME:CEST
END:DAYLIGHT
END:VTIMEZONE
END:VCALENDAR