BEGIN:VCALENDAR
VERSION:2.0
PRODID:-//wp-events-plugin.com//6.5.2//EN
TZID:Europe/Paris
X-WR-TIMEZONE:Europe/Paris
BEGIN:VEVENT
UID:230@maison-rurale.fr
DTSTART;TZID=Europe/Paris;VALUE=DATE:20251102
DTEND;TZID=Europe/Paris;VALUE=DATE:20251113
DTSTAMP:20250920T121626Z
URL:https://www.maison-rurale.fr/events/exposition-recupart/
SUMMARY:Exposition Récup'Art
DESCRIPTION:Connaissez-vous l'Upcycling ?\n\nDécouvrez le travail de Paul 
 Eyermann\, qui travaille sur la thématique de l'Upcycling : c'est une tec
 hnique qui consiste à réaliser des créations d'art à base de déchets\
 , d'objets recyclés et de matériaux de peu de valeur. Il travaille les m
 étaux\, le bois\, la pierre et le verre au gré de ses inspirations et tr
 ouvailles. Il travaille également la céramique par modelage\, par assemb
 lage de plaques et par pressage dans un moule.\n\nD'une certaine façon\, 
 son travail comporte une composante écologique dans la mesure où il recy
 cle et met en valeur les objets de peu de valeur\, ou qui sont destinés 
 à une triste fin.
ATTACH;FMTTYPE=image/jpeg:https://www.maison-rurale.fr/wp-content/uploads/
 2025/09/IMG_9291-1.jpg
CATEGORIES:Exposition
LOCATION:Maison Rurale de l'Outre-Forêt\, 1 place de l'église\, KUTZENHAU
 SEN\, 67250\, France
X-APPLE-STRUCTURED-LOCATION;VALUE=URI;X-ADDRESS=1 place de l'église\, KUTZ
 ENHAUSEN\, 67250\, France;X-APPLE-RADIUS=100;X-TITLE=Maison Rurale de l'Ou
 tre-Forêt:geo:0,0
END:VEVENT
BEGIN:VTIMEZONE
TZID:Europe/Paris
X-LIC-LOCATION:Europe/Paris
BEGIN:STANDARD
DTSTART:20251026T020000
TZOFFSETFROM:+0200
TZOFFSETTO:+0100
TZNAME:CET
END:STANDARD
END:VTIMEZONE
END:VCALENDAR