BEGIN:VCALENDAR
VERSION:2.0
PRODID:-//wp-events-plugin.com//6.5.2//EN
TZID:Europe/Paris
X-WR-TIMEZONE:Europe/Paris
BEGIN:VEVENT
UID:155@maison-rurale.fr
DTSTART;TZID=Europe/Paris:20250615T160000
DTEND;TZID=Europe/Paris:20250615T160000
DTSTAMP:20250417T142146Z
URL:https://www.maison-rurale.fr/events/conference-animation/
SUMMARY:Conférence/animation : "La biodiversité augmentée au jardin"
DESCRIPTION:Sébastien Heim\, fondateur d’Hymenoptera Conseils\, tiendra 
 une conférence sur la biodiversité augmentée au jardin. L'environnement
  est au cœur des préoccupations actuelles\, et il y apportera un coup de
  projecteur.\n\n"La biodiversité est en danger\, nous avons perdu 80% de 
 la biomasse des insectes volants en\nseulement 30 ans. Cependant\, le jard
 inier peut très nettement contribuer à favoriser les petits\nanimaux au 
 jardin. Cette conférence avec diaporama permet de comprendre l’approche
 \nrequise pour créer à votre tour un véritable sanctuaire pour une biod
 iversité augmentée chez\nvous".\nLes thèmes abordés seront :\n-Les cau
 ses de la disparition des insectes\n-Comment favoriser la biodiversité au
  jardin\n-Les différents biotopes\n-Le contraste entre les différents mi
 lieux pour une biodiversité augmentée\n-Un temps de questions/réponses\
 n\n-Présentation du livre « La Biodiversité Augmentée au Jardin » ave
 c une séance de dédicaces 
ATTACH;FMTTYPE=image/jpeg:https://www.maison-rurale.fr/wp-content/uploads/
 2025/02/biodiversite-Sebastien-Heim-.jpg
CATEGORIES:Conférence
LOCATION:Maison Rurale de l'Outre-Forêt\, 1 place de l'église\, KUTZENHAU
 SEN\, 67250\, France
X-APPLE-STRUCTURED-LOCATION;VALUE=URI;X-ADDRESS=1 place de l'église\, KUTZ
 ENHAUSEN\, 67250\, France;X-APPLE-RADIUS=100;X-TITLE=Maison Rurale de l'Ou
 tre-Forêt:geo:0,0
END:VEVENT
BEGIN:VTIMEZONE
TZID:Europe/Paris
X-LIC-LOCATION:Europe/Paris
BEGIN:DAYLIGHT
DTSTART:20250330T030000
TZOFFSETFROM:+0100
TZOFFSETTO:+0200
TZNAME:CEST
END:DAYLIGHT
END:VTIMEZONE
END:VCALENDAR